BEGIN:VCALENDAR
VERSION:2.0
PRODID:-//Tukios.com/
BEGIN:VEVENT
UID:db4fe36d-32d6-441b-b241-e24b447dc3f0@www.kermitfuneralhome.com
DTSTAMP:20260421T234507Z
DTSTART:20260426T000000Z
DTEND:20260426T020000Z
SUMMARY:Rosary
DESCRIPTION:
URL:https://www.kermitfuneralhome.com/obituaries/ruben-muchuca
LOCATION:Kermit Funeral Home & Cremation Services 220 S. Cedar St.  
	Kermit TX 79745
GEO:31.8561563;-103.0919207
END:VEVENT
END:VCALENDAR