BEGIN:VCALENDAR
VERSION:2.0
PRODID:-//Tukios.com/
BEGIN:VEVENT
UID:8c2bb373-ccab-4b05-867a-f5db6af42a05@www.kermitfuneralhome.com
DTSTAMP:20260423T031856Z
DTSTART:20260426T180000Z
DTEND:20260427T010000Z
SUMMARY:Visitation
DESCRIPTION:
URL:https://www.kermitfuneralhome.com/obituaries/javier-lomeli
LOCATION:Kermit Funeral Home & Cremation Services 220 S. Cedar St.  
	Kermit TX 79745
GEO:31.8561563;-103.0919207
END:VEVENT
END:VCALENDAR