BEGIN:VCALENDAR
VERSION:2.0
PRODID:-//Tukios.com/
BEGIN:VEVENT
UID:d75bc1c4-8d52-461c-b87c-2cf5ee8db74f@www.kermitfuneralhome.com
DTSTAMP:20260423T032237Z
DTSTART:20260427T150000Z
DTEND:20260427T160000Z
SUMMARY:Funeral Service
DESCRIPTION:
URL:https://www.kermitfuneralhome.com/obituaries/javier-lomeli
LOCATION:Kermit Funeral Home & Cremation Services 220 S. Cedar St.  
	Kermit TX 79745
GEO:31.8561563;-103.0919207
END:VEVENT
END:VCALENDAR